BEGIN:VCALENDAR
VERSION:2.0
PRODID:-//Pete Carlson&#039;s Golf &amp; Tennis - ECPv6.15.20//NONSGML v1.0//EN
CALSCALE:GREGORIAN
METHOD:PUBLISH
X-WR-CALNAME:Pete Carlson&#039;s Golf &amp; Tennis
X-ORIGINAL-URL:https://petecarlsonsgolf.com
X-WR-CALDESC:Events for Pete Carlson&#039;s Golf &amp; Tennis
REFRESH-INTERVAL;VALUE=DURATION:PT1H
X-Robots-Tag:noindex
X-PUBLISHED-TTL:PT1H
BEGIN:VTIMEZONE
TZID:UTC
BEGIN:STANDARD
TZOFFSETFROM:+0000
TZOFFSETTO:+0000
TZNAME:UTC
DTSTART:20140101T000000
END:STANDARD
END:VTIMEZONE
BEGIN:VEVENT
DTSTART;TZID=UTC:20151204T100000
DTEND;TZID=UTC:20151204T150000
DTSTAMP:20260421T124548
CREATED:20151201T075010Z
LAST-MODIFIED:20151201T075010Z
UID:1496-1449223200-1449241200@petecarlsonsgolf.com
SUMMARY:Taylormade Demo Day
DESCRIPTION:
URL:https://petecarlsonsgolf.com/event/taylormade-demo-day-2/
LOCATION:College of the Desert Golf Center Driving Range\, 73450 Fred Waring Drive\, Palm Desert\, CA\, 92260\, United States
CATEGORIES:demo days
END:VEVENT
BEGIN:VEVENT
DTSTART;TZID=UTC:20151127T100000
DTEND;TZID=UTC:20151127T150000
DTSTAMP:20260421T124548
CREATED:20151106T050835Z
LAST-MODIFIED:20151106T050937Z
UID:1475-1448618400-1448636400@petecarlsonsgolf.com
SUMMARY:In Store Golf Buddy / FootJoy Demo Day
DESCRIPTION:
URL:https://petecarlsonsgolf.com/event/in-store-golf-buddy-footjoy-demo-day/
LOCATION:Pete Carlson’s Golf & Tennis\, 73-741 Hwy 111\, Palm Desert \, CA\, 92260\, United States
CATEGORIES:demo days
END:VEVENT
BEGIN:VEVENT
DTSTART;TZID=UTC:20151127T100000
DTEND;TZID=UTC:20151127T150000
DTSTAMP:20260421T124548
CREATED:20151007T002752Z
LAST-MODIFIED:20151007T002752Z
UID:1438-1448618400-1448636400@petecarlsonsgolf.com
SUMMARY:Golf Buddy Demo Day
DESCRIPTION:Come out and test drive the newest Golf Buddy product lines. Manufacture representatives on-site to answer all of your questions.
URL:https://petecarlsonsgolf.com/event/golf-buddy-demo-day/
LOCATION:CA
CATEGORIES:demo days
END:VEVENT
BEGIN:VEVENT
DTSTART;TZID=UTC:20151120T100000
DTEND;TZID=UTC:20151120T150000
DTSTAMP:20260421T124548
CREATED:20151007T002637Z
LAST-MODIFIED:20151007T002637Z
UID:1437-1448013600-1448031600@petecarlsonsgolf.com
SUMMARY:Callaway Demo Day
DESCRIPTION:Come out and test drive the newest Callaway product lines. Manufacture representatives on-site to answer all of your questions.
URL:https://petecarlsonsgolf.com/event/callaway-demo-day-3/
LOCATION:College of the Desert Golf Center Driving Range\, 73450 Fred Waring Drive\, Palm Desert\, CA\, 92260\, United States
CATEGORIES:demo days
END:VEVENT
BEGIN:VEVENT
DTSTART;TZID=UTC:20151107T100000
DTEND;TZID=UTC:20151107T150000
DTSTAMP:20260421T124548
CREATED:20151007T002506Z
LAST-MODIFIED:20151007T002506Z
UID:1436-1446890400-1446908400@petecarlsonsgolf.com
SUMMARY:Ping Demo Day
DESCRIPTION:Come out and test drive the newest Ping product lines. Manufacture representatives on-site to answer all of your questions.
URL:https://petecarlsonsgolf.com/event/ping-demo-day/
LOCATION:College of the Desert Golf Center Driving Range\, 73450 Fred Waring Drive\, Palm Desert\, CA\, 92260\, United States
CATEGORIES:demo days
END:VEVENT
BEGIN:VEVENT
DTSTART;TZID=UTC:20151106T100000
DTEND;TZID=UTC:20151106T150000
DTSTAMP:20260421T124548
CREATED:20151007T002136Z
LAST-MODIFIED:20151007T002136Z
UID:1435-1446804000-1446822000@petecarlsonsgolf.com
SUMMARY:Titleist Demo Day
DESCRIPTION:
URL:https://petecarlsonsgolf.com/event/titleist-demo-day-2/
LOCATION:College of the Desert Golf Center Driving Range\, 73450 Fred Waring Drive\, Palm Desert\, CA\, 92260\, United States
CATEGORIES:demo days
END:VEVENT
BEGIN:VEVENT
DTSTART;TZID=UTC:20151106T100000
DTEND;TZID=UTC:20151106T150000
DTSTAMP:20260421T124548
CREATED:20151007T001758Z
LAST-MODIFIED:20151007T001840Z
UID:1434-1446804000-1446822000@petecarlsonsgolf.com
SUMMARY:King Cobra Demo Day
DESCRIPTION:
URL:https://petecarlsonsgolf.com/event/king-cobra-demo-day/
LOCATION:College of the Desert Golf Center Driving Range\, 73450 Fred Waring Drive\, Palm Desert\, CA\, 92260\, United States
CATEGORIES:demo days
END:VEVENT
BEGIN:VEVENT
DTSTART;TZID=UTC:20151010T100000
DTEND;TZID=UTC:20151010T150000
DTSTAMP:20260421T124548
CREATED:20150917T104510Z
LAST-MODIFIED:20150917T104510Z
UID:1330-1444471200-1444489200@petecarlsonsgolf.com
SUMMARY:Taylormade Demo Day
DESCRIPTION:Come out and demo the new line of Taylormade product at the College of the Desert\, Golf Center Driving Range\, in Palm Desert. Manufacturer representatives will be present to answer all your questions.
URL:https://petecarlsonsgolf.com/event/taylormade-demo-day/
LOCATION:College of the Desert Golf Center Driving Range\, 73450 Fred Waring Drive\, Palm Desert\, CA\, 92260\, United States
CATEGORIES:demo days
END:VEVENT
BEGIN:VEVENT
DTSTART;TZID=UTC:20151006T080000
DTEND;TZID=UTC:20151006T170000
DTSTAMP:20260421T124548
CREATED:20151007T003058Z
LAST-MODIFIED:20151007T003058Z
UID:1439-1444118400-1444150800@petecarlsonsgolf.com
SUMMARY:Footjoy Demo Day
DESCRIPTION:Come out and try on the newest Footjoy product lines. Manufacture representatives on-site to answer all of your questions.
URL:https://petecarlsonsgolf.com/event/footjoy-demo-day/
LOCATION:CA
CATEGORIES:demo days
END:VEVENT
END:VCALENDAR