BEGIN:VCALENDAR
VERSION:2.0
PRODID:-//Pete Carlson&#039;s Golf &amp; Tennis - ECPv6.15.20//NONSGML v1.0//EN
CALSCALE:GREGORIAN
METHOD:PUBLISH
X-WR-CALNAME:Pete Carlson&#039;s Golf &amp; Tennis
X-ORIGINAL-URL:https://petecarlsonsgolf.com
X-WR-CALDESC:Events for Pete Carlson&#039;s Golf &amp; Tennis
REFRESH-INTERVAL;VALUE=DURATION:PT1H
X-Robots-Tag:noindex
X-PUBLISHED-TTL:PT1H
BEGIN:VTIMEZONE
TZID:America/Los_Angeles
BEGIN:DAYLIGHT
TZOFFSETFROM:-0800
TZOFFSETTO:-0700
TZNAME:PDT
DTSTART:20180311T100000
END:DAYLIGHT
BEGIN:STANDARD
TZOFFSETFROM:-0700
TZOFFSETTO:-0800
TZNAME:PST
DTSTART:20181104T090000
END:STANDARD
BEGIN:DAYLIGHT
TZOFFSETFROM:-0800
TZOFFSETTO:-0700
TZNAME:PDT
DTSTART:20190310T100000
END:DAYLIGHT
BEGIN:STANDARD
TZOFFSETFROM:-0700
TZOFFSETTO:-0800
TZNAME:PST
DTSTART:20191103T090000
END:STANDARD
BEGIN:DAYLIGHT
TZOFFSETFROM:-0800
TZOFFSETTO:-0700
TZNAME:PDT
DTSTART:20200308T100000
END:DAYLIGHT
BEGIN:STANDARD
TZOFFSETFROM:-0700
TZOFFSETTO:-0800
TZNAME:PST
DTSTART:20201101T090000
END:STANDARD
END:VTIMEZONE
BEGIN:VTIMEZONE
TZID:UTC
BEGIN:STANDARD
TZOFFSETFROM:+0000
TZOFFSETTO:+0000
TZNAME:UTC
DTSTART:20150101T000000
END:STANDARD
END:VTIMEZONE
BEGIN:VEVENT
DTSTART;TZID=America/Los_Angeles:20190315T100000
DTEND;TZID=America/Los_Angeles:20190315T140000
DTSTAMP:20260421T053303
CREATED:20190306T234505Z
LAST-MODIFIED:20190306T234505Z
UID:3552-1552644000-1552658400@petecarlsonsgolf.com
SUMMARY:Kinona
DESCRIPTION:Kinona representative in store
URL:https://petecarlsonsgolf.com/event/kinona/
LOCATION:Pete Carlson’s Golf & Tennis\, 73-741 Hwy 111\, Palm Desert \, CA\, 92260\, United States
CATEGORIES:demo days
END:VEVENT
BEGIN:VEVENT
DTSTART;TZID=America/Los_Angeles:20190313T100000
DTEND;TZID=America/Los_Angeles:20190313T140000
DTSTAMP:20260421T053303
CREATED:20190226T000654Z
LAST-MODIFIED:20190226T000654Z
UID:3520-1552471200-1552485600@petecarlsonsgolf.com
SUMMARY:Babolat Tennis
DESCRIPTION:Babolat Tennis manufacturer representatives in-store. Free synthetic gut string with racquet purchase.
URL:https://petecarlsonsgolf.com/event/babolat-tennis/
LOCATION:Pete Carlson’s Golf & Tennis\, 73-741 Hwy 111\, Palm Desert \, CA\, 92260\, United States
CATEGORIES:demo days
END:VEVENT
BEGIN:VEVENT
DTSTART;TZID=America/Los_Angeles:20190312T120000
DTEND;TZID=America/Los_Angeles:20190312T140000
DTSTAMP:20260421T053303
CREATED:20190226T000236Z
LAST-MODIFIED:20190226T000236Z
UID:3518-1552392000-1552399200@petecarlsonsgolf.com
SUMMARY:Head Penn
DESCRIPTION:Head Penn manufacturer representatives in-store. Free synthetic gut string with racquet purchase.
URL:https://petecarlsonsgolf.com/event/head-penn/
LOCATION:Pete Carlson’s Golf & Tennis\, 73-741 Hwy 111\, Palm Desert \, CA\, 92260\, United States
CATEGORIES:demo days
END:VEVENT
BEGIN:VEVENT
DTSTART;TZID=America/Los_Angeles:20190311T100000
DTEND;TZID=America/Los_Angeles:20190311T140000
DTSTAMP:20260421T053303
CREATED:20190225T235850Z
LAST-MODIFIED:20190306T234145Z
UID:3516-1552298400-1552312800@petecarlsonsgolf.com
SUMMARY:Wilson Tennis
DESCRIPTION:Tail and Bolle women’s apparel\, and Wilson tennis\, balls\, and footwear manufacturer representatives in-store. Free synthetic gut string with racquet purchase.
URL:https://petecarlsonsgolf.com/event/wilson-tennis/
LOCATION:Pete Carlson’s Golf & Tennis\, 73-741 Hwy 111\, Palm Desert \, CA\, 92260\, United States
CATEGORIES:demo days
END:VEVENT
BEGIN:VEVENT
DTSTART;TZID=America/Los_Angeles:20190310T100000
DTEND;TZID=America/Los_Angeles:20190310T140000
DTSTAMP:20260421T053303
CREATED:20190306T232523Z
LAST-MODIFIED:20190306T232523Z
UID:3548-1552212000-1552226400@petecarlsonsgolf.com
SUMMARY:Asics tennis shoes
DESCRIPTION:Asics tennis shoe representative in store.
URL:https://petecarlsonsgolf.com/event/asics-tennis-shoes-2/
LOCATION:Pete Carlson’s Golf & Tennis\, 73-741 Hwy 111\, Palm Desert \, CA\, 92260\, United States
CATEGORIES:demo days
END:VEVENT
BEGIN:VEVENT
DTSTART;TZID=America/Los_Angeles:20190309T100000
DTEND;TZID=America/Los_Angeles:20190309T140000
DTSTAMP:20260421T053303
CREATED:20190225T235629Z
LAST-MODIFIED:20190225T235629Z
UID:3514-1552125600-1552140000@petecarlsonsgolf.com
SUMMARY:Dunlop Tennis
DESCRIPTION:Dunlop tennis manufacturer representatives in-store. Free synthetic gut string with racquet purchase.
URL:https://petecarlsonsgolf.com/event/dunlop-tennis/
LOCATION:Pete Carlson’s Golf & Tennis\, 73-741 Hwy 111\, Palm Desert \, CA\, 92260\, United States
CATEGORIES:demo days
END:VEVENT
BEGIN:VEVENT
DTSTART;TZID=America/Los_Angeles:20190308T100000
DTEND;TZID=America/Los_Angeles:20190308T140000
DTSTAMP:20260421T053303
CREATED:20190225T235332Z
LAST-MODIFIED:20190306T231926Z
UID:3512-1552039200-1552053600@petecarlsonsgolf.com
SUMMARY:Yonex and Lucky in Love
DESCRIPTION:Yonex and Lucky in Love apparel manufacturer representatives in-store. Free synthetic gut string with racquet purchase.
URL:https://petecarlsonsgolf.com/event/yonex-tennis/
LOCATION:Pete Carlson’s Golf & Tennis\, 73-741 Hwy 111\, Palm Desert \, CA\, 92260\, United States
CATEGORIES:demo days
END:VEVENT
BEGIN:VEVENT
DTSTART;TZID=America/Los_Angeles:20190307T100000
DTEND;TZID=America/Los_Angeles:20190307T140000
DTSTAMP:20260421T053303
CREATED:20190225T235105Z
LAST-MODIFIED:20190306T231115Z
UID:3510-1551952800-1551967200@petecarlsonsgolf.com
SUMMARY:Pro Kennex Sofibella and New Balance
DESCRIPTION:Pro Kennex tennis/pickleball manufacturer representatives in-store. Free synthetic gut string with racquet purchase.\nSofibella apparel and New Balance shoes.
URL:https://petecarlsonsgolf.com/event/pro-kennex/
LOCATION:Pete Carlson’s Golf & Tennis\, 73-741 Hwy 111\, Palm Desert \, CA\, 92260\, United States
CATEGORIES:demo days
END:VEVENT
BEGIN:VEVENT
DTSTART;TZID=UTC:20180314T100000
DTEND;TZID=UTC:20180314T140000
DTSTAMP:20260421T053303
CREATED:20180310T023905Z
LAST-MODIFIED:20180310T024039Z
UID:2639-1521021600-1521036000@petecarlsonsgolf.com
SUMMARY:Lija tennis wear demo day
DESCRIPTION:Try on the latest fashions from Lija tennis apparel. Manufacturer representative will be in store. PLUS Enter to win / Free Drawings (no purchase necessary).
URL:https://petecarlsonsgolf.com/event/lija-tennis-wear-demo-day/
LOCATION:Pete Carlson’s Golf & Tennis\, 73-741 Hwy 111\, Palm Desert \, CA\, 92260\, United States
CATEGORIES:demo days
END:VEVENT
BEGIN:VEVENT
DTSTART;TZID=UTC:20180312T140000
DTEND;TZID=UTC:20180312T160000
DTSTAMP:20260421T053303
CREATED:20180310T023056Z
LAST-MODIFIED:20180310T023056Z
UID:2635-1520863200-1520870400@petecarlsonsgolf.com
SUMMARY:In Store Demo Day
DESCRIPTION:Manufacturer representative will be in store. PLUS Enter to win / Free Drawings (no purchase necessary). \n\nWilson tennis rackets and shoes\nSan Soleil sun protection wear\nWallaroo hats
URL:https://petecarlsonsgolf.com/event/in-store-demo-day/
LOCATION:Pete Carlson’s Golf & Tennis\, 73-741 Hwy 111\, Palm Desert \, CA\, 92260\, United States
CATEGORIES:demo days
END:VEVENT
BEGIN:VEVENT
DTSTART;TZID=UTC:20180311T100000
DTEND;TZID=UTC:20180311T140000
DTSTAMP:20260421T053303
CREATED:20180309T024825Z
LAST-MODIFIED:20180309T024825Z
UID:2633-1520762400-1520776800@petecarlsonsgolf.com
SUMMARY:Asics tennis shoes
DESCRIPTION:Come try on the latest from Asics. Manufacturer on site to get you fit and answer questions. \nAlso\, special Enter to Win / Free Drawings! No purchase necessary.
URL:https://petecarlsonsgolf.com/event/asics-tennis-shoes/
LOCATION:Pete Carlson’s Golf & Tennis\, 73-741 Hwy 111\, Palm Desert \, CA\, 92260\, United States
CATEGORIES:demo days
END:VEVENT
BEGIN:VEVENT
DTSTART;TZID=UTC:20170325T100000
DTEND;TZID=UTC:20170325T150000
DTSTAMP:20260421T053303
CREATED:20170303T080240Z
LAST-MODIFIED:20170303T080240Z
UID:2323-1490436000-1490454000@petecarlsonsgolf.com
SUMMARY:Ping demo day
DESCRIPTION:Mfg. rep. on site to custom fit and answer questions.
URL:https://petecarlsonsgolf.com/event/ping-demo-day-2/
LOCATION:College of the Desert Golf Center Driving Range\, 73450 Fred Waring Drive\, Palm Desert\, CA\, 92260\, United States
CATEGORIES:demo days
END:VEVENT
BEGIN:VEVENT
DTSTART;TZID=UTC:20170324T100000
DTEND;TZID=UTC:20170324T150000
DTSTAMP:20260421T053303
CREATED:20170322T024742Z
LAST-MODIFIED:20170322T024742Z
UID:2338-1490349600-1490367600@petecarlsonsgolf.com
SUMMARY:Bushnell Demo Day
DESCRIPTION:Manufacturer representative in store.
URL:https://petecarlsonsgolf.com/event/bushnell-demo-day-3/
LOCATION:Pete Carlson’s Golf & Tennis\, 73-741 Hwy 111\, Palm Desert \, CA\, 92260\, United States
CATEGORIES:demo days
END:VEVENT
BEGIN:VEVENT
DTSTART;TZID=UTC:20170318T100000
DTEND;TZID=UTC:20170318T150000
DTSTAMP:20260421T053303
CREATED:20170303T080137Z
LAST-MODIFIED:20170303T080137Z
UID:2321-1489831200-1489849200@petecarlsonsgolf.com
SUMMARY:Callaway demo day
DESCRIPTION:Mfg. rep. on site to custom fit and answer questions.
URL:https://petecarlsonsgolf.com/event/callaway-demo-day-5/
LOCATION:College of the Desert Golf Center Driving Range\, 73450 Fred Waring Drive\, Palm Desert\, CA\, 92260\, United States
CATEGORIES:demo days
END:VEVENT
BEGIN:VEVENT
DTSTART;TZID=UTC:20170317T100000
DTEND;TZID=UTC:20170317T160000
DTSTAMP:20260421T053303
CREATED:20170303T063208Z
LAST-MODIFIED:20170303T063208Z
UID:2311-1489744800-1489766400@petecarlsonsgolf.com
SUMMARY:New Balance fashion show & demo day
DESCRIPTION:
URL:https://petecarlsonsgolf.com/event/new-balance-fashion-show-demo-day/
LOCATION:Pete Carlson’s Golf & Tennis\, 73-741 Hwy 111\, Palm Desert \, CA\, 92260\, United States
CATEGORIES:demo days,fashion show
END:VEVENT
BEGIN:VEVENT
DTSTART;TZID=UTC:20170317T100000
DTEND;TZID=UTC:20170317T150000
DTSTAMP:20260421T053304
CREATED:20170303T080026Z
LAST-MODIFIED:20170303T080026Z
UID:2319-1489744800-1489762800@petecarlsonsgolf.com
SUMMARY:Cobra demo day
DESCRIPTION:Manufacture representative on site to custom fit and answer questions.
URL:https://petecarlsonsgolf.com/event/cobra-demo-day-2/
LOCATION:College of the Desert Golf Center Driving Range\, 73450 Fred Waring Drive\, Palm Desert\, CA\, 92260\, United States
CATEGORIES:demo days
END:VEVENT
BEGIN:VEVENT
DTSTART;TZID=UTC:20170315T100000
DTEND;TZID=UTC:20170315T160000
DTSTAMP:20260421T053304
CREATED:20170303T055841Z
LAST-MODIFIED:20170303T055841Z
UID:2305-1489572000-1489593600@petecarlsonsgolf.com
SUMMARY:Asics fashion show and demo day
DESCRIPTION:From 10am-2pm the Asics manufacturer representative will be in store to custom fit you into a fantastic pair of Asics shoes. We will also hold a Asics Fashion show to showcase new fashions.
URL:https://petecarlsonsgolf.com/event/asics-fashion-show-demo-day/
LOCATION:Pete Carlson’s Golf & Tennis\, 73-741 Hwy 111\, Palm Desert \, CA\, 92260\, United States
CATEGORIES:demo days,fashion show
END:VEVENT
BEGIN:VEVENT
DTSTART;TZID=UTC:20170315T100000
DTEND;TZID=UTC:20170315T140000
DTSTAMP:20260421T053304
CREATED:20170303T061413Z
LAST-MODIFIED:20170303T061413Z
UID:2307-1489572000-1489586400@petecarlsonsgolf.com
SUMMARY:Babolat demo day
DESCRIPTION:Babolat manufacturer representative will be in store to custom fit you into a great tennis racquet and tennis shoes. Also available to answer your questions.
URL:https://petecarlsonsgolf.com/event/babolat-demo-day-2/
LOCATION:Pete Carlson’s Golf & Tennis\, 73-741 Hwy 111\, Palm Desert \, CA\, 92260\, United States
CATEGORIES:demo days
END:VEVENT
BEGIN:VEVENT
DTSTART;TZID=UTC:20170314T100000
DTEND;TZID=UTC:20170314T140000
DTSTAMP:20260421T053304
CREATED:20170303T053306Z
LAST-MODIFIED:20170303T053306Z
UID:2303-1489485600-1489500000@petecarlsonsgolf.com
SUMMARY:Head tennis demo day
DESCRIPTION:Head demo day in store. Demo racquets and tennis shoes. Manufacture representative in store to custom fit you and answer questions.
URL:https://petecarlsonsgolf.com/event/head-tennis-demo-day-2/
LOCATION:Pete Carlson’s Golf & Tennis\, 73-741 Hwy 111\, Palm Desert \, CA\, 92260\, United States
CATEGORIES:demo days
END:VEVENT
BEGIN:VEVENT
DTSTART;TZID=UTC:20170313T100000
DTEND;TZID=UTC:20170313T140000
DTSTAMP:20260421T053304
CREATED:20170303T045016Z
LAST-MODIFIED:20170303T045016Z
UID:2299-1489399200-1489413600@petecarlsonsgolf.com
SUMMARY:Wilson demo day
DESCRIPTION:Demo Wilson tennis racquets and try on a new pair of Wilson tennis shoes. Manufacture representative in store to get you custom fit and answer questions
URL:https://petecarlsonsgolf.com/event/wilson-demo-day/
LOCATION:Pete Carlson’s Golf & Tennis\, 73-741 Hwy 111\, Palm Desert \, CA\, 92260\, United States
CATEGORIES:demo days
END:VEVENT
BEGIN:VEVENT
DTSTART;TZID=UTC:20170311T100000
DTEND;TZID=UTC:20170311T150000
DTSTAMP:20260421T053304
CREATED:20170303T075415Z
LAST-MODIFIED:20170303T075415Z
UID:2317-1489226400-1489244400@petecarlsonsgolf.com
SUMMARY:Taylormade demo day
DESCRIPTION:Manufacture representative on site to custom fit and answer questions
URL:https://petecarlsonsgolf.com/event/taylormade-demo-day-6/
LOCATION:College of the Desert Golf Center Driving Range\, 73450 Fred Waring Drive\, Palm Desert\, CA\, 92260\, United States
CATEGORIES:demo days
END:VEVENT
BEGIN:VEVENT
DTSTART;TZID=UTC:20170310T100000
DTEND;TZID=UTC:20170310T140000
DTSTAMP:20260421T053304
CREATED:20170303T043431Z
LAST-MODIFIED:20170303T043431Z
UID:2295-1489140000-1489154400@petecarlsonsgolf.com
SUMMARY:K-Swiss demo day
DESCRIPTION:Come in and try on a new pair of K-Swiss tennis shoes. Manufacturer representative will be in store to get you custom fit and answer any questions.
URL:https://petecarlsonsgolf.com/event/k-swiss-demo-day/
LOCATION:Pete Carlson’s Golf & Tennis\, 73-741 Hwy 111\, Palm Desert \, CA\, 92260\, United States
CATEGORIES:demo days
END:VEVENT
BEGIN:VEVENT
DTSTART;TZID=UTC:20170309T100000
DTEND;TZID=UTC:20170309T150000
DTSTAMP:20260421T053304
CREATED:20170303T071729Z
LAST-MODIFIED:20170303T071729Z
UID:2313-1489053600-1489071600@petecarlsonsgolf.com
SUMMARY:Srixon golf demo day
DESCRIPTION:Manufacturer on site at the C.O.D driving range to get you custom fitted and answer any questions.
URL:https://petecarlsonsgolf.com/event/srixon-golf-demo-day/
LOCATION:College of the Desert Golf Center Driving Range\, 73450 Fred Waring Drive\, Palm Desert\, CA\, 92260\, United States
CATEGORIES:demo days
END:VEVENT
BEGIN:VEVENT
DTSTART;TZID=UTC:20170309T100000
DTEND;TZID=UTC:20170309T140000
DTSTAMP:20260421T053304
CREATED:20170303T042437Z
LAST-MODIFIED:20170303T042437Z
UID:2291-1489053600-1489068000@petecarlsonsgolf.com
SUMMARY:Wilson Tennis demo day
DESCRIPTION:Demo wilson tennis racquets and try on wilson shoes. Manufacture representative will be in store to custom fit you and answer questions.
URL:https://petecarlsonsgolf.com/event/wilson-tennis-demo-day-2/
LOCATION:Pete Carlson’s Golf & Tennis\, 73-741 Hwy 111\, Palm Desert \, CA\, 92260\, United States
CATEGORIES:demo days
END:VEVENT
BEGIN:VEVENT
DTSTART;TZID=UTC:20170204T090000
DTEND;TZID=UTC:20170204T140000
DTSTAMP:20260421T053304
CREATED:20170111T072256Z
LAST-MODIFIED:20170117T072453Z
UID:2170-1486198800-1486216800@petecarlsonsgolf.com
SUMMARY:Tennis Expo 2017
DESCRIPTION:  \nPete Carlson’s Golf & Tennis will be hosting the first annual Tennis Expo at the Palm Desert Civic Center Park tennis courts. \nTennis representatives from Head\, Wilson\, Prince\, and Babolat as well as the Pete Carlson’s Staff will help you select the latest and best tennis racquets for your game. \nNew Balance court shoes will be on site to help you select the best tennis shoes. \nSpecial pricing will be available for all racquets\, shoes\, and assorted tennis apparel. You won’t want to miss the first annual tennis expo at the Palm Desert Civic Center Park tennis courts\, in Palm Desert.
URL:https://petecarlsonsgolf.com/event/tennis-expo-2017/
LOCATION:Palm Desert Civic Center Park\, 43900 San Pablo Ave\, Palm Desert\, CA\, 92260\, United States
CATEGORIES:community,demo days
ATTACH;FMTTYPE=image/jpeg:https://petecarlsonsgolf.com/wp-content/uploads/2017/01/event-img-tennis-expo.jpg
END:VEVENT
BEGIN:VEVENT
DTSTART;TZID=UTC:20161209T100000
DTEND;TZID=UTC:20161209T150000
DTSTAMP:20260421T053304
CREATED:20161206T035509Z
LAST-MODIFIED:20161207T144048Z
UID:2072-1481277600-1481295600@petecarlsonsgolf.com
SUMMARY:Mizuno demo day
DESCRIPTION:Mfg. rep. on-site. Custom club fitting for the new family of Mizuno forged irons available like the JPX 900 Forged.
URL:https://petecarlsonsgolf.com/event/mizuno-demo-day-2/
LOCATION:College of the Desert Golf Center Driving Range\, 73450 Fred Waring Drive\, Palm Desert\, CA\, 92260\, United States
CATEGORIES:demo days
ATTACH;FMTTYPE=image/jpeg:https://petecarlsonsgolf.com/wp-content/uploads/2016/12/mizuno-demo-day.jpg
END:VEVENT
BEGIN:VEVENT
DTSTART;TZID=UTC:20161126T100000
DTEND;TZID=UTC:20161126T160000
DTSTAMP:20260421T053304
CREATED:20161124T064547Z
LAST-MODIFIED:20161124T064547Z
UID:2057-1480154400-1480176000@petecarlsonsgolf.com
SUMMARY:Titleist golf ball fitting
DESCRIPTION:Come and join us in store to get custom fit by the Titleist reps.
URL:https://petecarlsonsgolf.com/event/titleist-golf-ball-fitting-2/
LOCATION:Pete Carlson’s Golf & Tennis\, 73-741 Hwy 111\, Palm Desert \, CA\, 92260\, United States
CATEGORIES:demo days
END:VEVENT
BEGIN:VEVENT
DTSTART;TZID=UTC:20161125T100000
DTEND;TZID=UTC:20161125T150000
DTSTAMP:20260421T053304
CREATED:20161117T035402Z
LAST-MODIFIED:20161123T103017Z
UID:2034-1480068000-1480086000@petecarlsonsgolf.com
SUMMARY:FootJoy\, Golf Buddy\, Ping Demo Day
DESCRIPTION:
URL:https://petecarlsonsgolf.com/event/footjoy-golf-buddy-ping-demo-day/
LOCATION:College of the Desert Golf Center Driving Range\, 73450 Fred Waring Drive\, Palm Desert\, CA\, 92260\, United States
CATEGORIES:demo days
END:VEVENT
BEGIN:VEVENT
DTSTART;TZID=UTC:20161119T100000
DTEND;TZID=UTC:20161119T150000
DTSTAMP:20260421T053304
CREATED:20161117T035737Z
LAST-MODIFIED:20161117T040150Z
UID:2036-1479549600-1479567600@petecarlsonsgolf.com
SUMMARY:Taylormade Demo Day
DESCRIPTION:Mfg. tech. rep. on-site to custom club fit with launch monitor
URL:https://petecarlsonsgolf.com/event/taylormade-demo-day-5/
LOCATION:College of the Desert Golf Center Driving Range\, 73450 Fred Waring Drive\, Palm Desert\, CA\, 92260\, United States
CATEGORIES:demo days
ATTACH;FMTTYPE=image/jpeg:https://petecarlsonsgolf.com/wp-content/uploads/2016/11/Nov-19-Taylormade-demo-event-image2.jpg
END:VEVENT
BEGIN:VEVENT
DTSTART;TZID=UTC:20161118T100000
DTEND;TZID=UTC:20161118T150000
DTSTAMP:20260421T053304
CREATED:20161105T023539Z
LAST-MODIFIED:20161105T025452Z
UID:2002-1479463200-1479481200@petecarlsonsgolf.com
SUMMARY:Bushnell Demo Day
DESCRIPTION:
URL:https://petecarlsonsgolf.com/event/bushnell-demo-day-2/
LOCATION:Pete Carlson’s Golf & Tennis\, 73-741 Hwy 111\, Palm Desert \, CA\, 92260\, United States
CATEGORIES:demo days
ATTACH;FMTTYPE=image/jpeg:https://petecarlsonsgolf.com/wp-content/uploads/2016/11/BushnellGolf_2016_2ndWave_Holiday_Promos_8.jpg
END:VEVENT
END:VCALENDAR